BEGIN:VCALENDAR
VERSION:2.0
PRODID:spatie/icalendar-generator
DESCRIPTION:Veranstaltungen von Weddelbrook
X-WR-CALDESC:Veranstaltungen von Weddelbrook
REFRESH-INTERVAL;VALUE=DURATION:PT1440M
X-PUBLISHED-TTL:PT1440M
BEGIN:VTIMEZONE
TZID:Europe/Berlin
BEGIN:STANDARD
DTSTART:20161030T030000Z
TZOFFSETFROM:+0200
TZOFFSETTO:+0100
END:STANDARD
BEGIN:DAYLIGHT
DTSTART:20170326T020000Z
TZOFFSETFROM:+0100
TZOFFSETTO:+0200
END:DAYLIGHT
END:VTIMEZONE
BEGIN:VTIMEZONE
TZID:UTC
BEGIN:STANDARD
DTSTART:20250725T114406Z
TZOFFSETFROM:+0000
TZOFFSETTO:+0000
END:STANDARD
END:VTIMEZONE
BEGIN:VEVENT
UID:150-107
DTSTAMP:20260421T114406Z
SUMMARY:Vortragsveranstaltung - Planungsstand A20 &amp;amp\; Trinkwasserqualit
 ät
LOCATION:Wolters Gasthof Glückstädter Straße 3  Weddelbrook  24576
ORGANIZER;CN=Karsten Reimers:MAILTO:reimers.weddelbrook@web.de
DTSTART;TZID=Europe/Berlin:20170216T190000
DTEND;TZID=Europe/Berlin:20170216T210000
X-ALT-DESC;FMTTYPE=TEXT/HTML:Die CDU Weddelbrook lädt zu einer Vortragsver
 anstaltung ein. Termin 16.02.2017\, 19:00 Uhr in Wolters Gasthof Aktueller
  Planungsstand zur A20 inkl. Elbquerung Trinkwasser\; wo kommt es her\, wi
 e kommt es zu uns\, wie ist die Qualität auch bzgl. der Nitratbelastung.
CATEGORIES:Allgemein
URL;VALUE=URI:https://www.weddelbrook.de/events/vortragsveranstaltung-planu
 ngsstand-a20-trinkwasserqualitaet/
METHOD:PUBLISH
END:VEVENT
END:VCALENDAR