BEGIN:VCALENDAR
VERSION:2.0
PRODID:spatie/icalendar-generator
DESCRIPTION:Veranstaltungen von Weddelbrook
X-WR-CALDESC:Veranstaltungen von Weddelbrook
REFRESH-INTERVAL;VALUE=DURATION:PT1440M
X-PUBLISHED-TTL:PT1440M
BEGIN:VTIMEZONE
TZID:Europe/Berlin
BEGIN:DAYLIGHT
DTSTART:20150329T020000Z
TZOFFSETFROM:+0100
TZOFFSETTO:+0200
END:DAYLIGHT
BEGIN:STANDARD
DTSTART:20151025T030000Z
TZOFFSETFROM:+0200
TZOFFSETTO:+0100
END:STANDARD
BEGIN:DAYLIGHT
DTSTART:20160327T020000Z
TZOFFSETFROM:+0100
TZOFFSETTO:+0200
END:DAYLIGHT
END:VTIMEZONE
BEGIN:VTIMEZONE
TZID:UTC
BEGIN:STANDARD
DTSTART:20250725T092918Z
TZOFFSETFROM:+0000
TZOFFSETTO:+0000
END:STANDARD
END:VTIMEZONE
BEGIN:VEVENT
UID:8-3
DTSTAMP:20260421T092918Z
SUMMARY:Sitzung des Gemeinderates
LOCATION:Dorfhaus Heidmoorer Straße 2  Weddelbrook  24576
ORGANIZER;CN=Dirk Brandenburg:MAILTO:d.brandenburg@t-online.de
DTSTART;TZID=Europe/Berlin:20150924T193000
DTEND;TZID=Europe/Berlin:20150925T000000
X-ALT-DESC;FMTTYPE=TEXT/HTML:
CATEGORIES:Gemeinderatssitzung
URL;VALUE=URI:https://www.weddelbrook.de/events/sitzung-des-gemeinderates-3
 /
METHOD:PUBLISH
END:VEVENT
END:VCALENDAR