BEGIN:VCALENDAR
VERSION:2.0
PRODID:spatie/icalendar-generator
DESCRIPTION:Veranstaltungen von Weddelbrook
X-WR-CALDESC:Veranstaltungen von Weddelbrook
REFRESH-INTERVAL;VALUE=DURATION:PT1440M
X-PUBLISHED-TTL:PT1440M
BEGIN:VTIMEZONE
TZID:Europe/Berlin
BEGIN:DAYLIGHT
DTSTART:20180325T020000Z
TZOFFSETFROM:+0100
TZOFFSETTO:+0200
END:DAYLIGHT
BEGIN:STANDARD
DTSTART:20181028T030000Z
TZOFFSETFROM:+0200
TZOFFSETTO:+0100
END:STANDARD
BEGIN:DAYLIGHT
DTSTART:20190331T020000Z
TZOFFSETFROM:+0100
TZOFFSETTO:+0200
END:DAYLIGHT
END:VTIMEZONE
BEGIN:VTIMEZONE
TZID:UTC
BEGIN:STANDARD
DTSTART:20250723T141410Z
TZOFFSETFROM:+0000
TZOFFSETTO:+0000
END:STANDARD
END:VTIMEZONE
BEGIN:VEVENT
UID:232-152
DTSTAMP:20260419T141410Z
SUMMARY:Sitzung des Finanzausschusses
LOCATION:Dorfhaus Heidmoorer Straße 2  Weddelbrook  24576
ORGANIZER;CN=Karsten Reimers:MAILTO:reimers.weddelbrook@web.de
DTSTART;TZID=Europe/Berlin:20181011T193000
DTEND;TZID=Europe/Berlin:20181011T203000
X-ALT-DESC;FMTTYPE=TEXT/HTML:Sitzung des Finanzausschusses Am Donnerstag de
 n 11. Oktober 2018 um 19:30Uhr im Amt Bad-Bramstedt Land\, König-Christia
 n-Str. 6\, 24576 Bad Bramstedt Sitzungsraum der Amtsverwaltung Bad Bramste
 dt-Land\, Zimmer 21 Tagesordnung Öffentliche Tagespunkte Prüfung der Gem
 eindewahl 2018
CATEGORIES:Gemeinderatssitzung
URL;VALUE=URI:https://www.weddelbrook.de/events/sitzung-des-finanzausschuss
 es-6/
METHOD:PUBLISH
END:VEVENT
END:VCALENDAR