BEGIN:VCALENDAR
VERSION:2.0
PRODID:spatie/icalendar-generator
DESCRIPTION:Veranstaltungen von Weddelbrook
X-WR-CALDESC:Veranstaltungen von Weddelbrook
REFRESH-INTERVAL;VALUE=DURATION:PT1440M
X-PUBLISHED-TTL:PT1440M
BEGIN:VTIMEZONE
TZID:Europe/Berlin
BEGIN:STANDARD
DTSTART:20161030T030000Z
TZOFFSETFROM:+0200
TZOFFSETTO:+0100
END:STANDARD
BEGIN:DAYLIGHT
DTSTART:20170326T020000Z
TZOFFSETFROM:+0100
TZOFFSETTO:+0200
END:DAYLIGHT
BEGIN:STANDARD
DTSTART:20171029T030000Z
TZOFFSETFROM:+0200
TZOFFSETTO:+0100
END:STANDARD
END:VTIMEZONE
BEGIN:VTIMEZONE
TZID:UTC
BEGIN:STANDARD
DTSTART:20250725T122642Z
TZOFFSETFROM:+0000
TZOFFSETTO:+0000
END:STANDARD
END:VTIMEZONE
BEGIN:VEVENT
UID:161-112
DTSTAMP:20260421T122642Z
SUMMARY:Sitzung des Finanzausschusses
LOCATION:Dorfhaus Heidmoorer Straße 2  Weddelbrook  24576
ORGANIZER;CN=Karsten Reimers:MAILTO:reimers.weddelbrook@web.de
DTSTART;TZID=Europe/Berlin:20170511T193000
DTEND;TZID=Europe/Berlin:20170511T210000
X-ALT-DESC;FMTTYPE=TEXT/HTML:Termin: DO: 11.05.2017 19:30Uhr im Dorfhaus Ta
 gesordnung (öffentlicher Teil) Verpflichtung des neuen bürgerlichen Mitg
 liedes Peter Deneffe Prüfung der Jahresrechnung 2014 Die Tagesordnung der
  Sitzung entnehmen Sie auch dem ALLRIS® net der Amtsverwaltung Bad Bramst
 edt Land (Sitzungskalender).
CATEGORIES:Allgemein
URL;VALUE=URI:https://www.weddelbrook.de/events/sitzung-des-finanzausschuss
 es-3/
METHOD:PUBLISH
END:VEVENT
END:VCALENDAR