BEGIN:VCALENDAR
VERSION:2.0
PRODID:spatie/icalendar-generator
DESCRIPTION:Veranstaltungen von Weddelbrook
X-WR-CALDESC:Veranstaltungen von Weddelbrook
REFRESH-INTERVAL;VALUE=DURATION:PT1440M
X-PUBLISHED-TTL:PT1440M
BEGIN:VTIMEZONE
TZID:Europe/Berlin
BEGIN:DAYLIGHT
DTSTART:20230326T020000Z
TZOFFSETFROM:+0100
TZOFFSETTO:+0200
END:DAYLIGHT
BEGIN:STANDARD
DTSTART:20231029T030000Z
TZOFFSETFROM:+0200
TZOFFSETTO:+0100
END:STANDARD
BEGIN:DAYLIGHT
DTSTART:20240331T020000Z
TZOFFSETFROM:+0100
TZOFFSETTO:+0200
END:DAYLIGHT
END:VTIMEZONE
BEGIN:VTIMEZONE
TZID:UTC
BEGIN:STANDARD
DTSTART:20250729T170004Z
TZOFFSETFROM:+0000
TZOFFSETTO:+0000
END:STANDARD
END:VTIMEZONE
BEGIN:VEVENT
UID:446-276
DTSTAMP:20260425T170004Z
SUMMARY:Sitzung des Finanzausschusses
LOCATION:
ORGANIZER;CN=Karsten Reimers:MAILTO:reimers.weddelbrook@web.de
DTSTART;TZID=Europe/Berlin:20231116T194500
DTEND;TZID=Europe/Berlin:20231116T204500
X-ALT-DESC;FMTTYPE=TEXT/HTML:Die Sitzung des Finanzausschusses findet am Do
 nnerstag den 16.11.2023 um 19:45 Uhr im Dorfhaus (Heidmoorer Straße 2\, W
 eddelbrook) statt. Tagesordnung Gültigkeit der Gemeindewahl vom 14.05.202
 3 Kalkulation der Abwassergebühr 2024 Haushaltsentwurf für das Haushalts
 jahr 2024 → Bürgerinformationssystem
CATEGORIES:Allgemein
URL;VALUE=URI:https://www.weddelbrook.de/events/sitzung-des-finanzausschuss
 es-16/
METHOD:PUBLISH
END:VEVENT
END:VCALENDAR