BEGIN:VCALENDAR
VERSION:2.0
PRODID:spatie/icalendar-generator
DESCRIPTION:Veranstaltungen von Weddelbrook
X-WR-CALDESC:Veranstaltungen von Weddelbrook
REFRESH-INTERVAL;VALUE=DURATION:PT1440M
X-PUBLISHED-TTL:PT1440M
BEGIN:VTIMEZONE
TZID:Europe/Berlin
BEGIN:DAYLIGHT
DTSTART:20220327T020000Z
TZOFFSETFROM:+0100
TZOFFSETTO:+0200
END:DAYLIGHT
BEGIN:STANDARD
DTSTART:20221030T030000Z
TZOFFSETFROM:+0200
TZOFFSETTO:+0100
END:STANDARD
BEGIN:DAYLIGHT
DTSTART:20230326T020000Z
TZOFFSETFROM:+0100
TZOFFSETTO:+0200
END:DAYLIGHT
END:VTIMEZONE
BEGIN:VTIMEZONE
TZID:UTC
BEGIN:STANDARD
DTSTART:20250725T113853Z
TZOFFSETFROM:+0000
TZOFFSETTO:+0000
END:STANDARD
END:VTIMEZONE
BEGIN:VEVENT
UID:391-242
DTSTAMP:20260421T113853Z
SUMMARY:Sitzung des Finanzausschusses
LOCATION:
ORGANIZER;CN=Karsten Reimers:MAILTO:reimers.weddelbrook@web.de
DTSTART;TZID=Europe/Berlin:20221117T193000
DTEND;TZID=Europe/Berlin:20221117T203000
X-ALT-DESC;FMTTYPE=TEXT/HTML:Sitzung des Finanzausschusses Am Donnerstag\, 
 17. November 2022\, ab  19:30 Uhr im Dorfhaus\, Heidmoorer Straße 2\, 24
 576 Weddelbrook Tagesordnung (Vorläufig) Kalkulation der Abwassergebühr 
 2023 Haushaltsentwurf für das Haushaltsjahr 2023 → Bürgerinformations
 system
CATEGORIES:Allgemein
URL;VALUE=URI:https://www.weddelbrook.de/events/sitzung-des-finanzausschuss
 es-15/
METHOD:PUBLISH
END:VEVENT
END:VCALENDAR