BEGIN:VCALENDAR
VERSION:2.0
PRODID:spatie/icalendar-generator
DESCRIPTION:Veranstaltungen von Weddelbrook
X-WR-CALDESC:Veranstaltungen von Weddelbrook
REFRESH-INTERVAL;VALUE=DURATION:PT1440M
X-PUBLISHED-TTL:PT1440M
BEGIN:VTIMEZONE
TZID:Europe/Berlin
BEGIN:DAYLIGHT
DTSTART:20210328T020000Z
TZOFFSETFROM:+0100
TZOFFSETTO:+0200
END:DAYLIGHT
BEGIN:STANDARD
DTSTART:20211031T030000Z
TZOFFSETFROM:+0200
TZOFFSETTO:+0100
END:STANDARD
BEGIN:DAYLIGHT
DTSTART:20220327T020000Z
TZOFFSETFROM:+0100
TZOFFSETTO:+0200
END:DAYLIGHT
END:VTIMEZONE
BEGIN:VTIMEZONE
TZID:UTC
BEGIN:STANDARD
DTSTART:20250725T121209Z
TZOFFSETFROM:+0000
TZOFFSETTO:+0000
END:STANDARD
END:VTIMEZONE
BEGIN:VEVENT
UID:342-216
DTSTAMP:20260421T121209Z
SUMMARY:Sitzung des Finanzausschusses
LOCATION:Dorfhaus Heidmoorer Straße 2  Weddelbrook  24576
ORGANIZER;CN=Karsten Reimers:MAILTO:reimers.weddelbrook@web.de
DTSTART;TZID=Europe/Berlin:20211117T160000
DTEND;TZID=Europe/Berlin:20211117T170000
X-ALT-DESC;FMTTYPE=TEXT/HTML:Sitzung des Finanzausschusses Am Mittwoch\, 17
 . November 2021\, ab  16 Uhr im Dorfhaus Heidmoorer Str. 2\, Weddelbrook 
 Tagesordnung Kalkulation der Abwassergebühr 2022 Haushaltsentwurf für da
 s Haushaltsjahr 2022 → Bürgerinformationssystem
CATEGORIES:Allgemein
URL;VALUE=URI:https://www.weddelbrook.de/events/sitzung-des-finanzausschuss
 es-13/
METHOD:PUBLISH
END:VEVENT
END:VCALENDAR