BEGIN:VCALENDAR
VERSION:2.0
PRODID:spatie/icalendar-generator
DESCRIPTION:Veranstaltungen von Weddelbrook
X-WR-CALDESC:Veranstaltungen von Weddelbrook
REFRESH-INTERVAL;VALUE=DURATION:PT1440M
X-PUBLISHED-TTL:PT1440M
BEGIN:VTIMEZONE
TZID:Europe/Berlin
BEGIN:DAYLIGHT
DTSTART:20230326T020000Z
TZOFFSETFROM:+0100
TZOFFSETTO:+0200
END:DAYLIGHT
BEGIN:STANDARD
DTSTART:20231029T030000Z
TZOFFSETFROM:+0200
TZOFFSETTO:+0100
END:STANDARD
BEGIN:DAYLIGHT
DTSTART:20240331T020000Z
TZOFFSETFROM:+0100
TZOFFSETTO:+0200
END:DAYLIGHT
END:VTIMEZONE
BEGIN:VTIMEZONE
TZID:UTC
BEGIN:STANDARD
DTSTART:20250729T153546Z
TZOFFSETFROM:+0000
TZOFFSETTO:+0000
END:STANDARD
END:VTIMEZONE
BEGIN:VEVENT
UID:445-275
DTSTAMP:20260425T153546Z
SUMMARY:Sitzung des Finanz-\, Personal-\, Planungs- und Maßnahmenausschuss
 es des Amtes Bad Bramstedt-Land
LOCATION:
ORGANIZER;CN=Birgit Wienck:MAILTO:birgit.wienck@hamburg.de
DTSTART;TZID=Europe/Berlin:20231108T190000
DTEND;TZID=Europe/Berlin:20231108T200000
X-ALT-DESC;FMTTYPE=TEXT/HTML:
CATEGORIES:Veranstaltungen
URL;VALUE=URI:https://www.weddelbrook.de/events/sitzung-des-finanz-personal
 -planungs-und-massnahmenausschusses-des-amtes-bad-bramstedt-land/
METHOD:PUBLISH
END:VEVENT
END:VCALENDAR