BEGIN:VCALENDAR
VERSION:2.0
PRODID:spatie/icalendar-generator
DESCRIPTION:Veranstaltungen von Weddelbrook
X-WR-CALDESC:Veranstaltungen von Weddelbrook
REFRESH-INTERVAL;VALUE=DURATION:PT1440M
X-PUBLISHED-TTL:PT1440M
BEGIN:VTIMEZONE
TZID:Europe/Berlin
BEGIN:STANDARD
DTSTART:20161030T030000Z
TZOFFSETFROM:+0200
TZOFFSETTO:+0100
END:STANDARD
BEGIN:DAYLIGHT
DTSTART:20170326T020000Z
TZOFFSETFROM:+0100
TZOFFSETTO:+0200
END:DAYLIGHT
END:VTIMEZONE
BEGIN:VTIMEZONE
TZID:UTC
BEGIN:STANDARD
DTSTART:20250725T121026Z
TZOFFSETFROM:+0000
TZOFFSETTO:+0000
END:STANDARD
END:VTIMEZONE
BEGIN:VEVENT
UID:151-108
DTSTAMP:20260421T121026Z
SUMMARY:Sitzung der Gemeindevertretung
LOCATION:Dorfhaus Heidmoorer Straße 2  Weddelbrook  24576
ORGANIZER;CN=Karsten Reimers:MAILTO:reimers.weddelbrook@web.de
DTSTART;TZID=Europe/Berlin:20170228T193000
DTEND;TZID=Europe/Berlin:20170228T210000
X-ALT-DESC;FMTTYPE=TEXT/HTML:Termin: Di: 28.02.2017 19:30Uhr im Dorfhaus Ta
 gesordnung (öffentlicher Teil) Anträge zur Tagesordnung Einwohnerfragest
 unde Einwendungen gegen die letzte Sitzungsniederschrift vom 10.01.2017 07
 /2017/060 Bericht des Bürgermeisters und der Ausschüsse Bericht Ergebnis
 protokoll (öffentlicher Teil) Beschluss über die Annahme von Spenden aus
  dem Vorjahr VO/07/2017/132 Auftragsvergabe zu Fenstersanierung Villa am S
 ee VO/07/2017/134 Verschiedenes Tagesordnung (nichtöffentlicher Teil) Ber
 icht Ergebnisprotokoll (nichtöffentlicher&amp;hellip\;
CATEGORIES:Allgemein
URL;VALUE=URI:https://www.weddelbrook.de/events/sitzung-der-gemeindevertret
 ung-6/
METHOD:PUBLISH
END:VEVENT
END:VCALENDAR