BEGIN:VCALENDAR
VERSION:2.0
PRODID:spatie/icalendar-generator
DESCRIPTION:Veranstaltungen von Weddelbrook
X-WR-CALDESC:Veranstaltungen von Weddelbrook
REFRESH-INTERVAL;VALUE=DURATION:PT1440M
X-PUBLISHED-TTL:PT1440M
BEGIN:VTIMEZONE
TZID:Europe/Berlin
BEGIN:STANDARD
DTSTART:20231029T030000Z
TZOFFSETFROM:+0200
TZOFFSETTO:+0100
END:STANDARD
BEGIN:DAYLIGHT
DTSTART:20240331T020000Z
TZOFFSETFROM:+0100
TZOFFSETTO:+0200
END:DAYLIGHT
BEGIN:STANDARD
DTSTART:20241027T030000Z
TZOFFSETFROM:+0200
TZOFFSETTO:+0100
END:STANDARD
END:VTIMEZONE
BEGIN:VTIMEZONE
TZID:UTC
BEGIN:STANDARD
DTSTART:20250725T200238Z
TZOFFSETFROM:+0000
TZOFFSETTO:+0000
END:STANDARD
END:VTIMEZONE
BEGIN:VEVENT
UID:501-304
DTSTAMP:20260421T200238Z
SUMMARY:Sitzung der Gemeindevertretung
LOCATION:
ORGANIZER;CN=Karsten Reimers:MAILTO:reimers.weddelbrook@web.de
DTSTART;TZID=Europe/Berlin:20240620T193000
DTEND;TZID=Europe/Berlin:20240620T203000
X-ALT-DESC;FMTTYPE=TEXT/HTML:Sitzung der Gemeindevertretung der Gemeinde We
 ddelbrook im Dorfhaus Weddelbrook (Heidmoorer Str. 2\, 24576 Weddelbrook) 
 um 19:30 Uhr Tagesordung öffentlich Eröffnung der Sitzung\, Feststellung
  der Ordnungsmäßigkeit der Ladung\, der Anwesenheit und der Beschlussfä
 higkeit Anträge zur Tagesordnung Einwendungen gegen die letzte Sitzungsni
 ederschrift vom 25.04.2024 Bekanntgabe nichtöffentlicher Beschlüsse Beri
 chte des Bürgermeisters und der Ausschüsse 1. Einwohnerfragezeit Antrag 
 auf&amp;hellip\;
CATEGORIES:Gemeinderatssitzung
URL;VALUE=URI:https://www.weddelbrook.de/events/sitzung-der-gemeindevertret
 ung-45/
METHOD:PUBLISH
END:VEVENT
END:VCALENDAR