BEGIN:VCALENDAR
VERSION:2.0
PRODID:spatie/icalendar-generator
DESCRIPTION:Veranstaltungen von Weddelbrook
X-WR-CALDESC:Veranstaltungen von Weddelbrook
REFRESH-INTERVAL;VALUE=DURATION:PT1440M
X-PUBLISHED-TTL:PT1440M
BEGIN:VTIMEZONE
TZID:Europe/Berlin
BEGIN:STANDARD
DTSTART:20231029T030000Z
TZOFFSETFROM:+0200
TZOFFSETTO:+0100
END:STANDARD
BEGIN:DAYLIGHT
DTSTART:20240331T020000Z
TZOFFSETFROM:+0100
TZOFFSETTO:+0200
END:DAYLIGHT
END:VTIMEZONE
BEGIN:VTIMEZONE
TZID:UTC
BEGIN:STANDARD
DTSTART:20250725T105637Z
TZOFFSETFROM:+0000
TZOFFSETTO:+0000
END:STANDARD
END:VTIMEZONE
BEGIN:VEVENT
UID:492-296
DTSTAMP:20260421T105637Z
SUMMARY:Sitzung der Gemeindevertretung
LOCATION:
ORGANIZER;CN=Karsten Reimers:MAILTO:reimers.weddelbrook@web.de
DTSTART;TZID=Europe/Berlin:20240208T193000
DTEND;TZID=Europe/Berlin:20240208T203000
X-ALT-DESC;FMTTYPE=TEXT/HTML:Sitzung der Gemeindevertretung der Gemeinde We
 ddelbrook am Do 08.02.2024 im Dorfhaus Weddelbrook\, Heidmoorer Str. 2 um 
 19:30Uhr. Öffentliche Tagesordnung Anträge zur Tagesordnung Einwendungen
  gegen die letzte Sitzungsniederschrift vom 13.12.2023 Bericht des Bürger
 meisters und der Ausschüsse 1. Einwohnerfragezeit Bericht Ergebnisprotoko
 ll (öffentlicher Teil) Bekanntgabe nichtöffentlicher Beschlüsse gem. §
  35 (3) Gemeindeordnung Verabschiedung eines Gemeindevertreters Einführun
 g eines neuen&amp;hellip\;
CATEGORIES:Gemeinderatssitzung
URL;VALUE=URI:https://www.weddelbrook.de/events/sitzung-der-gemeindevertret
 ung-43/
METHOD:PUBLISH
END:VEVENT
END:VCALENDAR