BEGIN:VCALENDAR
VERSION:2.0
PRODID:spatie/icalendar-generator
DESCRIPTION:Veranstaltungen von Weddelbrook
X-WR-CALDESC:Veranstaltungen von Weddelbrook
REFRESH-INTERVAL;VALUE=DURATION:PT1440M
X-PUBLISHED-TTL:PT1440M
BEGIN:VTIMEZONE
TZID:Europe/Berlin
BEGIN:DAYLIGHT
DTSTART:20230326T020000Z
TZOFFSETFROM:+0100
TZOFFSETTO:+0200
END:DAYLIGHT
BEGIN:STANDARD
DTSTART:20231029T030000Z
TZOFFSETFROM:+0200
TZOFFSETTO:+0100
END:STANDARD
BEGIN:DAYLIGHT
DTSTART:20240331T020000Z
TZOFFSETFROM:+0100
TZOFFSETTO:+0200
END:DAYLIGHT
END:VTIMEZONE
BEGIN:VTIMEZONE
TZID:UTC
BEGIN:STANDARD
DTSTART:20250729T120514Z
TZOFFSETFROM:+0000
TZOFFSETTO:+0000
END:STANDARD
END:VTIMEZONE
BEGIN:VEVENT
UID:448-277
DTSTAMP:20260425T120514Z
SUMMARY:Sitzung der Gemeindevertretung
LOCATION:
ORGANIZER;CN=Birgit Wienck:MAILTO:birgit.wienck@hamburg.de
DTSTART;TZID=Europe/Berlin:20231213T193000
DTEND;TZID=Europe/Berlin:20231213T203000
X-ALT-DESC;FMTTYPE=TEXT/HTML:Sitzung der Gemeindevertretung der Gemeinde We
 ddelbrook im Dorfhaus Weddelbrook\, Heidmoorer Str. 2\, 24576 Weddelbrook 
 am Mittwoch den 13.12.2023 um 19:30Uhr Tageordnung Anträge zur Tagesordnu
 ng Einwendungen gegen die letzte Sitzungsniederschrift vom 07.11.2023 1. E
 inwohnerfragezeit Bericht des Bürgermeisters und der Ausschüsse Bericht 
 Ergebnisprotokoll (öffentlicher Teil) Bekanntgabe nichtöffentlicher Besc
 hlüsse gem. § 35 (3) Gemeindeordnung Gültigkeit der Gemeindewahl vom&amp;he
 llip\;
CATEGORIES:Allgemein
URL;VALUE=URI:https://www.weddelbrook.de/events/sitzung-der-gemeindevertret
 ung-42/
METHOD:PUBLISH
END:VEVENT
END:VCALENDAR