BEGIN:VCALENDAR
VERSION:2.0
PRODID:spatie/icalendar-generator
DESCRIPTION:Veranstaltungen von Weddelbrook
X-WR-CALDESC:Veranstaltungen von Weddelbrook
REFRESH-INTERVAL;VALUE=DURATION:PT1440M
X-PUBLISHED-TTL:PT1440M
BEGIN:VTIMEZONE
TZID:Europe/Berlin
BEGIN:STANDARD
DTSTART:20221030T030000Z
TZOFFSETFROM:+0200
TZOFFSETTO:+0100
END:STANDARD
BEGIN:DAYLIGHT
DTSTART:20230326T020000Z
TZOFFSETFROM:+0100
TZOFFSETTO:+0200
END:DAYLIGHT
BEGIN:STANDARD
DTSTART:20231029T030000Z
TZOFFSETFROM:+0200
TZOFFSETTO:+0100
END:STANDARD
END:VTIMEZONE
BEGIN:VTIMEZONE
TZID:UTC
BEGIN:STANDARD
DTSTART:20250725T163917Z
TZOFFSETFROM:+0000
TZOFFSETTO:+0000
END:STANDARD
END:VTIMEZONE
BEGIN:VEVENT
UID:437-268
DTSTAMP:20260421T163917Z
SUMMARY:Sitzung der Gemeindevertretung
LOCATION:
ORGANIZER;CN=Karsten Reimers:MAILTO:reimers.weddelbrook@web.de
DTSTART;TZID=Europe/Berlin:20230713T193000
DTEND;TZID=Europe/Berlin:20230713T203000
X-ALT-DESC;FMTTYPE=TEXT/HTML:Am Donnerstag den 13.07.2023 findet im Dorfhau
 s Weddelbrook\, Heidmoorer Str. 2 ab 19:30Uhr eine Gemeindevertreterversam
 mlung statt. öffentliche Tagesordnung Anträge zur Tagesordnung Bekanntga
 be nichtöffentlicher Beschlüsse gem. § 35 (3) Gemeindeordnung 1. Einwoh
 nerfragestunde Einwendungen gegen die letzte Sitzungsniederschrift vom 04.
 04.2023 Bericht Ergebnisprotokoll (öffentlicher Teil) Bericht des Bürger
 meisters und der Ausschüsse Kanal- und Straßensanierung in der Glückst
 ädter Straße&amp;hellip\;
CATEGORIES:Allgemein
URL;VALUE=URI:https://www.weddelbrook.de/events/sitzung-der-gemeindevertret
 ung-40/
METHOD:PUBLISH
END:VEVENT
END:VCALENDAR