BEGIN:VCALENDAR
VERSION:2.0
PRODID:spatie/icalendar-generator
DESCRIPTION:Veranstaltungen von Weddelbrook
X-WR-CALDESC:Veranstaltungen von Weddelbrook
REFRESH-INTERVAL;VALUE=DURATION:PT1440M
X-PUBLISHED-TTL:PT1440M
BEGIN:VTIMEZONE
TZID:Europe/Berlin
BEGIN:STANDARD
DTSTART:20221030T030000Z
TZOFFSETFROM:+0200
TZOFFSETTO:+0100
END:STANDARD
BEGIN:DAYLIGHT
DTSTART:20230326T020000Z
TZOFFSETFROM:+0100
TZOFFSETTO:+0200
END:DAYLIGHT
END:VTIMEZONE
BEGIN:VTIMEZONE
TZID:UTC
BEGIN:STANDARD
DTSTART:20250723T235633Z
TZOFFSETFROM:+0000
TZOFFSETTO:+0000
END:STANDARD
END:VTIMEZONE
BEGIN:VEVENT
UID:413-247
DTSTAMP:20260419T235633Z
SUMMARY:Sitzung der Gemeindevertretung
LOCATION:
ORGANIZER;CN=Karsten Reimers:MAILTO:reimers.weddelbrook@web.de
DTSTART;TZID=Europe/Berlin:20230201T193000
DTEND;TZID=Europe/Berlin:20230201T203000
X-ALT-DESC;FMTTYPE=TEXT/HTML:SITZUNG DER GEMEINDEVERTRETUNG AM 01.02.2023 U
 M 19:30UHR IM DORFHAUS WEDDELBROOK Tagesordnung (öffentlich) Anträge zur
  Tagesordnung Anträge zur Tagesordnung Einwohnerfragestunde Einwendungen 
 gegen die letzte Sitzungsniederschrift vom 07.12.2022 Bericht des Bürgerm
 eisters und der Ausschüsse Bericht Ergebnisprotokoll (öffentlicher Teil)
  Verpflichtung eines neuen Gemeindevertreters Nachwahl einer Gemeindevertr
 eterin / eines Gemeindevertreters für den Ausschuss für kulturelle Angel
 egenheiten Wahl einer/eines neuen&amp;hellip\;
CATEGORIES:Allgemein
URL;VALUE=URI:https://www.weddelbrook.de/events/sitzung-der-gemeindevertret
 ung-38/
METHOD:PUBLISH
END:VEVENT
END:VCALENDAR