BEGIN:VCALENDAR
VERSION:2.0
PRODID:spatie/icalendar-generator
DESCRIPTION:Veranstaltungen von Weddelbrook
X-WR-CALDESC:Veranstaltungen von Weddelbrook
REFRESH-INTERVAL;VALUE=DURATION:PT1440M
X-PUBLISHED-TTL:PT1440M
BEGIN:VTIMEZONE
TZID:Europe/Berlin
BEGIN:DAYLIGHT
DTSTART:20220327T020000Z
TZOFFSETFROM:+0100
TZOFFSETTO:+0200
END:DAYLIGHT
BEGIN:STANDARD
DTSTART:20221030T030000Z
TZOFFSETFROM:+0200
TZOFFSETTO:+0100
END:STANDARD
BEGIN:DAYLIGHT
DTSTART:20230326T020000Z
TZOFFSETFROM:+0100
TZOFFSETTO:+0200
END:DAYLIGHT
END:VTIMEZONE
BEGIN:VTIMEZONE
TZID:UTC
BEGIN:STANDARD
DTSTART:20250724T060255Z
TZOFFSETFROM:+0000
TZOFFSETTO:+0000
END:STANDARD
END:VTIMEZONE
BEGIN:VEVENT
UID:408-245
DTSTAMP:20260420T060255Z
SUMMARY:Sitzung der Gemeindevertretung
LOCATION:
ORGANIZER;CN=Karsten Reimers:MAILTO:reimers.weddelbrook@web.de
DTSTART;TZID=Europe/Berlin:20221207T193000
DTEND;TZID=Europe/Berlin:20221207T203000
X-ALT-DESC;FMTTYPE=TEXT/HTML:SITZUNG DER GEMEINDEVERTRETUNG AM 07.12.2022 U
 M 19:30UHR IM DORFHAUS WEDDELBROOK Tagesordnung (öffentlich) Anträge zur
  Tagesordnung Einwohnerfragestunde Einwendungen gegen die letzte Sitzungsn
 iederschrift vom 26.10.2022 Bericht des Bürgermeisters und der Ausschüss
 e Bericht Ergebnisprotokoll (öffentlicher Teil) Bildung Wahlvorstand und 
 Festlegung Wahllokal für die Kommunalwahl am 14.05.2023 Kostenübernahme 
 zum Erwerb eines Führerscheins der Fahrerlaubnis Klasse C der Freiwillige
 n Feuerwehr&amp;hellip\;
CATEGORIES:Allgemein
URL;VALUE=URI:https://www.weddelbrook.de/events/sitzung-der-gemeindevertret
 ung-37/
METHOD:PUBLISH
END:VEVENT
END:VCALENDAR