BEGIN:VCALENDAR
VERSION:2.0
PRODID:spatie/icalendar-generator
DESCRIPTION:Veranstaltungen von Weddelbrook
X-WR-CALDESC:Veranstaltungen von Weddelbrook
REFRESH-INTERVAL;VALUE=DURATION:PT1440M
X-PUBLISHED-TTL:PT1440M
BEGIN:VTIMEZONE
TZID:Europe/Berlin
BEGIN:STANDARD
DTSTART:20211031T030000Z
TZOFFSETFROM:+0200
TZOFFSETTO:+0100
END:STANDARD
BEGIN:DAYLIGHT
DTSTART:20220327T020000Z
TZOFFSETFROM:+0100
TZOFFSETTO:+0200
END:DAYLIGHT
END:VTIMEZONE
BEGIN:VTIMEZONE
TZID:UTC
BEGIN:STANDARD
DTSTART:20250729T120314Z
TZOFFSETFROM:+0000
TZOFFSETTO:+0000
END:STANDARD
END:VTIMEZONE
BEGIN:VEVENT
UID:382-235
DTSTAMP:20260425T120314Z
SUMMARY:Sitzung der Gemeindevertretung
LOCATION:
ORGANIZER;CN=Karsten Reimers:MAILTO:reimers.weddelbrook@web.de
DTSTART;TZID=Europe/Berlin:20220419T193000
DTEND;TZID=Europe/Berlin:20220419T203000
X-ALT-DESC;FMTTYPE=TEXT/HTML:Sitzung der Gemeindevertretung am 19.04.2022 u
 m 19:30Uhr im DORFHAUS Weddelbrook Tagesordnung (öffentlich)  Anträge z
 ur Tagesordnung Einwohnerfragestunde Einwendungen gegen die letzte Sitzung
 sniederschrift vom 16.03.2022 Bericht des Bürgermeisters und der Ausschü
 sse Bericht Ergebnisprotokoll (öffentlicher Teil) Neubau kommunaler Bauho
 f\; Vergabe von Planungsleistungen  Gewährung eines Zuschusses zur Verbe
 sserung von Sportstätten Verschiedenes Tagesordnung (nicht öffentlich) 
  Bericht Ergebnisprotokoll (nichtöffentlicher Teil) Grundstücks-&amp;hellip\
 ;
CATEGORIES:Allgemein
URL;VALUE=URI:https://www.weddelbrook.de/events/sitzung-der-gemeindevertret
 ung-33/
METHOD:PUBLISH
END:VEVENT
END:VCALENDAR