BEGIN:VCALENDAR
VERSION:2.0
PRODID:spatie/icalendar-generator
DESCRIPTION:Veranstaltungen von Weddelbrook
X-WR-CALDESC:Veranstaltungen von Weddelbrook
REFRESH-INTERVAL;VALUE=DURATION:PT1440M
X-PUBLISHED-TTL:PT1440M
BEGIN:VTIMEZONE
TZID:Europe/Berlin
BEGIN:DAYLIGHT
DTSTART:20190331T020000Z
TZOFFSETFROM:+0100
TZOFFSETTO:+0200
END:DAYLIGHT
BEGIN:STANDARD
DTSTART:20191027T030000Z
TZOFFSETFROM:+0200
TZOFFSETTO:+0100
END:STANDARD
END:VTIMEZONE
BEGIN:VTIMEZONE
TZID:UTC
BEGIN:STANDARD
DTSTART:20250724T082046Z
TZOFFSETFROM:+0000
TZOFFSETTO:+0000
END:STANDARD
END:VTIMEZONE
BEGIN:VEVENT
UID:273-173
DTSTAMP:20260420T082046Z
SUMMARY:Sitzung der Gemeindevertretung
LOCATION:
ORGANIZER;CN=Karsten Reimers:MAILTO:reimers.weddelbrook@web.de
DTSTART;TZID=Europe/Berlin:20190828T193000
DTEND;TZID=Europe/Berlin:20190828T203000
X-ALT-DESC;FMTTYPE=TEXT/HTML:Sitzung der Gemeindevertretung Am Mittwoch den
  28. August 2019 um 19:30Uhr im Dorfhaus Tagesordnung Öffentliche Tagespu
 nkte Anträge zur Tagesordnung Einwohnerfragestunde Einwendungen gegen die
  letzte Sitzungsniederschrift vom 15.05.2019 Bericht des Bürgermeisters u
 nd der Ausschüsse Bericht Ergebnisprotokoll (öffentlicher Teil) Vorstell
 ung / Möglichkeiten der Förderungen und Ortsentwicklungskonzept durch Fr
 au Glockner\, Regionalmanagement AktivRegion Holsteiner Auenland Vorstellu
 ng Projekt Kombine (Frau&amp;hellip\;
CATEGORIES:Allgemein
URL;VALUE=URI:https://www.weddelbrook.de/events/sitzung-der-gemeindevertret
 ung-18/
METHOD:PUBLISH
END:VEVENT
END:VCALENDAR