BEGIN:VCALENDAR
VERSION:2.0
PRODID:spatie/icalendar-generator
DESCRIPTION:Veranstaltungen von Weddelbrook
X-WR-CALDESC:Veranstaltungen von Weddelbrook
REFRESH-INTERVAL;VALUE=DURATION:PT1440M
X-PUBLISHED-TTL:PT1440M
BEGIN:VTIMEZONE
TZID:Europe/Berlin
BEGIN:STANDARD
DTSTART:20181028T030000Z
TZOFFSETFROM:+0200
TZOFFSETTO:+0100
END:STANDARD
BEGIN:DAYLIGHT
DTSTART:20190331T020000Z
TZOFFSETFROM:+0100
TZOFFSETTO:+0200
END:DAYLIGHT
BEGIN:STANDARD
DTSTART:20191027T030000Z
TZOFFSETFROM:+0200
TZOFFSETTO:+0100
END:STANDARD
END:VTIMEZONE
BEGIN:VTIMEZONE
TZID:UTC
BEGIN:STANDARD
DTSTART:20250725T093424Z
TZOFFSETFROM:+0000
TZOFFSETTO:+0000
END:STANDARD
END:VTIMEZONE
BEGIN:VEVENT
UID:270-170
DTSTAMP:20260421T093424Z
SUMMARY:Sitzung der Gemeindevertretung
LOCATION:Dorfhaus Heidmoorer Straße 2  Weddelbrook  24576
ORGANIZER;CN=Karsten Reimers:MAILTO:reimers.weddelbrook@web.de
DTSTART;TZID=Europe/Berlin:20190515T193000
DTEND;TZID=Europe/Berlin:20190515T203000
X-ALT-DESC;FMTTYPE=TEXT/HTML:Sitzung der Gemeindevertretung Am Mittwoch den
  15. Mai 2019 um 19:30Uhr im Dorfhaus Tagesordnung Öffentliche Tagespunkt
 e Anträge zur Tagesordnung Einwohnerfragestunde Einwendungen gegen die le
 tzte Sitzungsniederschrift vom 26.02.2019 Bericht des Bürgermeisters und 
 der Ausschüsse Bericht Ergebnisprotokoll (öffentlicher Teil) Sonderverm
 ögen der Kameradschaftskasse der Freiwilligen Feuerwehr Weddelbrook\; hie
 r: Einnahme- und Ausgaberechnung für das Haushaltsjahr 2018 Sondervermög
 en der Kameradschaftskasse&amp;hellip\;
CATEGORIES:Allgemein
URL;VALUE=URI:https://www.weddelbrook.de/events/sitzung-der-gemeindevertret
 ung-17/
METHOD:PUBLISH
END:VEVENT
END:VCALENDAR