BEGIN:VCALENDAR
VERSION:2.0
PRODID:spatie/icalendar-generator
DESCRIPTION:Veranstaltungen von Weddelbrook
X-WR-CALDESC:Veranstaltungen von Weddelbrook
REFRESH-INTERVAL;VALUE=DURATION:PT1440M
X-PUBLISHED-TTL:PT1440M
BEGIN:VTIMEZONE
TZID:Europe/Berlin
BEGIN:STANDARD
DTSTART:20171029T030000Z
TZOFFSETFROM:+0200
TZOFFSETTO:+0100
END:STANDARD
BEGIN:DAYLIGHT
DTSTART:20180325T020000Z
TZOFFSETFROM:+0100
TZOFFSETTO:+0200
END:DAYLIGHT
BEGIN:STANDARD
DTSTART:20181028T030000Z
TZOFFSETFROM:+0200
TZOFFSETTO:+0100
END:STANDARD
END:VTIMEZONE
BEGIN:VTIMEZONE
TZID:UTC
BEGIN:STANDARD
DTSTART:20250725T093145Z
TZOFFSETFROM:+0000
TZOFFSETTO:+0000
END:STANDARD
END:VTIMEZONE
BEGIN:VEVENT
UID:229-149
DTSTAMP:20260421T093145Z
SUMMARY:Sitzung der Gemeindevertretung
LOCATION:Dorfhaus Heidmoorer Straße 2  Weddelbrook  24576
ORGANIZER;CN=Karsten Reimers:MAILTO:reimers.weddelbrook@web.de
DTSTART;TZID=Europe/Berlin:20180709T193000
DTEND;TZID=Europe/Berlin:20180709T203000
X-ALT-DESC;FMTTYPE=TEXT/HTML:Sitzung der Gemeindevertretung der Gemeinde We
 ddelbrook Montag\, 9. Juli 2018 im Dorfhaus (19.30 Uhr) Tagesordnung - Öf
 fentlicher Teil Anträge zur Tagesordnung Einwohnerfragestunde Einwendunge
 n gegen die letzte Sitzungsniederschrift vom 19.04.2018\, 30.05.2018 und 1
 1.06.2018 Bericht des Bürgermeisters und der Ausschüsse Bericht Ergebnis
 protokoll (öffentlicher Teil) Gewährung eines Zuschusses für die Bescha
 ffung von Sportgeräten Benennung von Personen für die&amp;hellip\;
CATEGORIES:Allgemein
URL;VALUE=URI:https://www.weddelbrook.de/events/sitzung-der-gemeindevertret
 ung-13/
METHOD:PUBLISH
END:VEVENT
END:VCALENDAR