BEGIN:VCALENDAR
VERSION:2.0
PRODID:spatie/icalendar-generator
DESCRIPTION:Veranstaltungen von Weddelbrook
X-WR-CALDESC:Veranstaltungen von Weddelbrook
REFRESH-INTERVAL;VALUE=DURATION:PT1440M
X-PUBLISHED-TTL:PT1440M
BEGIN:VTIMEZONE
TZID:Europe/Berlin
BEGIN:STANDARD
DTSTART:20171029T030000Z
TZOFFSETFROM:+0200
TZOFFSETTO:+0100
END:STANDARD
BEGIN:DAYLIGHT
DTSTART:20180325T020000Z
TZOFFSETFROM:+0100
TZOFFSETTO:+0200
END:DAYLIGHT
END:VTIMEZONE
BEGIN:VTIMEZONE
TZID:UTC
BEGIN:STANDARD
DTSTART:20250725T114238Z
TZOFFSETFROM:+0000
TZOFFSETTO:+0000
END:STANDARD
END:VTIMEZONE
BEGIN:VEVENT
UID:223-144
DTSTAMP:20260421T114238Z
SUMMARY:Sitzung der Gemeindevertretung
LOCATION:
ORGANIZER;CN=Karsten Reimers:MAILTO:reimers.weddelbrook@web.de
DTSTART;TZID=Europe/Berlin:20180314T183000
DTEND;TZID=Europe/Berlin:20180314T203000
X-ALT-DESC;FMTTYPE=TEXT/HTML:Sitzung der Gemeindevertretung der Gemeinde We
 ddelbrook Mittwoch\, 14. März 2018 im Dorfhaus (18.30 Uhr) Tagesordnung -
  Öffentlicher Teil Umsetzung Krippenbau und Auftragsvergabe
CATEGORIES:Allgemein
URL;VALUE=URI:https://www.weddelbrook.de/events/sitzung-der-gemeindevertret
 ung-12/
METHOD:PUBLISH
END:VEVENT
END:VCALENDAR