BEGIN:VCALENDAR
VERSION:2.0
PRODID:spatie/icalendar-generator
DESCRIPTION:Veranstaltungen von Weddelbrook
X-WR-CALDESC:Veranstaltungen von Weddelbrook
REFRESH-INTERVAL;VALUE=DURATION:PT1440M
X-PUBLISHED-TTL:PT1440M
BEGIN:VTIMEZONE
TZID:Europe/Berlin
BEGIN:DAYLIGHT
DTSTART:20230326T020000Z
TZOFFSETFROM:+0100
TZOFFSETTO:+0200
END:DAYLIGHT
BEGIN:STANDARD
DTSTART:20231029T030000Z
TZOFFSETFROM:+0200
TZOFFSETTO:+0100
END:STANDARD
END:VTIMEZONE
BEGIN:VTIMEZONE
TZID:UTC
BEGIN:STANDARD
DTSTART:20250725T092527Z
TZOFFSETFROM:+0000
TZOFFSETTO:+0000
END:STANDARD
END:VTIMEZONE
BEGIN:VEVENT
UID:440-271
DTSTAMP:20260421T092527Z
SUMMARY:Sitzung der Gemeindevertreter
LOCATION:
ORGANIZER;CN=Karsten Reimers:MAILTO:reimers.weddelbrook@web.de
DTSTART;TZID=Europe/Berlin:20230905T193000
DTEND;TZID=Europe/Berlin:20230905T203000
X-ALT-DESC;FMTTYPE=TEXT/HTML:Am Dienstag den 05.09.2023 findet im Dorfhaus 
 Weddelbrook\, Heidmoorer Str. 2 ab 19:30Uhr eine Gemeindevertreterversamml
 ung statt. Tagesordnung (öffentlicher Teil) Anträge zur Tagesordnung Ein
 wendungen gegen die letzte Sitzungsniederschriften vom 20.06.2023 und 13.0
 7.2023 Einwohnerfragestunde Bericht des Bürgermeisters und der Ausschüss
 e Bericht Ergebnisprotokoll (öffentlicher Teil) Bekanntgabe nichtöffentl
 icher Beschlüsse gem. § 35 (3) Gemeindeordnung Verabschiedung eines ausg
 eschiedenen Gemeindevertreters Über-&amp;hellip\;
CATEGORIES:Allgemein
URL;VALUE=URI:https://www.weddelbrook.de/events/sitzung-der-gemeindevertret
 er/
METHOD:PUBLISH
END:VEVENT
END:VCALENDAR