BEGIN:VCALENDAR
VERSION:2.0
PRODID:spatie/icalendar-generator
DESCRIPTION:Veranstaltungen von Weddelbrook
X-WR-CALDESC:Veranstaltungen von Weddelbrook
REFRESH-INTERVAL;VALUE=DURATION:PT1440M
X-PUBLISHED-TTL:PT1440M
BEGIN:VTIMEZONE
TZID:Europe/Berlin
BEGIN:STANDARD
DTSTART:20211031T030000Z
TZOFFSETFROM:+0200
TZOFFSETTO:+0100
END:STANDARD
BEGIN:DAYLIGHT
DTSTART:20220327T020000Z
TZOFFSETFROM:+0100
TZOFFSETTO:+0200
END:DAYLIGHT
END:VTIMEZONE
BEGIN:VTIMEZONE
TZID:UTC
BEGIN:STANDARD
DTSTART:20250725T105629Z
TZOFFSETFROM:+0000
TZOFFSETTO:+0000
END:STANDARD
END:VTIMEZONE
BEGIN:VEVENT
UID:383-236
DTSTAMP:20260421T105629Z
SUMMARY:Ostereier suchen
LOCATION:
ORGANIZER;CN=Karsten Reimers:MAILTO:reimers.weddelbrook@web.de
DTSTART;TZID=Europe/Berlin:20220418T110000
DTEND;TZID=Europe/Berlin:20220418T120000
X-ALT-DESC;FMTTYPE=TEXT/HTML:Traditionell am Ostermontag lädt die CDU Wedd
 elbrook zum Ostereiersuchen Treffpunkt ist die Badestelle am Weddelbrooker
  See Ab 11:00Uhr geht's los.
CATEGORIES:Veranstaltungen
URL;VALUE=URI:https://www.weddelbrook.de/events/ostereier-suchen-4/
METHOD:PUBLISH
END:VEVENT
END:VCALENDAR