BEGIN:VCALENDAR
VERSION:2.0
PRODID:spatie/icalendar-generator
DESCRIPTION:Veranstaltungen von Weddelbrook
X-WR-CALDESC:Veranstaltungen von Weddelbrook
REFRESH-INTERVAL;VALUE=DURATION:PT1440M
X-PUBLISHED-TTL:PT1440M
BEGIN:VTIMEZONE
TZID:Europe/Berlin
BEGIN:DAYLIGHT
DTSTART:20230326T020000Z
TZOFFSETFROM:+0100
TZOFFSETTO:+0200
END:DAYLIGHT
BEGIN:STANDARD
DTSTART:20231029T030000Z
TZOFFSETFROM:+0200
TZOFFSETTO:+0100
END:STANDARD
BEGIN:DAYLIGHT
DTSTART:20240331T020000Z
TZOFFSETFROM:+0100
TZOFFSETTO:+0200
END:DAYLIGHT
END:VTIMEZONE
BEGIN:VTIMEZONE
TZID:UTC
BEGIN:STANDARD
DTSTART:20250729T153450Z
TZOFFSETFROM:+0000
TZOFFSETTO:+0000
END:STANDARD
END:VTIMEZONE
BEGIN:VEVENT
UID:459-282
DTSTAMP:20260425T153450Z
SUMMARY:Lichterfahrt
LOCATION:
ORGANIZER;CN=Karsten Reimers:MAILTO:reimers.weddelbrook@web.de
DTSTART;TZID=Europe/Berlin:20231210T180000
DTEND;TZID=Europe/Berlin:20231210T190000
X-ALT-DESC;FMTTYPE=TEXT/HTML:Start 18:00 Uhr Mönkloh ⇒ Weddelbrook ⇒ B
 ad Bramstedt ⇒ Hitzhusen ⇒ Föhrden-Barl =&amp;gt\; Weddelbrook ⇒ Mönkl
 oh &amp;nbsp\;
CATEGORIES:Allgemein
URL;VALUE=URI:https://www.weddelbrook.de/events/lichterfahrt/
METHOD:PUBLISH
END:VEVENT
END:VCALENDAR