BEGIN:VCALENDAR
VERSION:2.0
PRODID:spatie/icalendar-generator
DESCRIPTION:Veranstaltungen von Weddelbrook
X-WR-CALDESC:Veranstaltungen von Weddelbrook
REFRESH-INTERVAL;VALUE=DURATION:PT1440M
X-PUBLISHED-TTL:PT1440M
BEGIN:VTIMEZONE
TZID:Europe/Berlin
BEGIN:STANDARD
DTSTART:20221030T030000Z
TZOFFSETFROM:+0200
TZOFFSETTO:+0100
END:STANDARD
BEGIN:DAYLIGHT
DTSTART:20230326T020000Z
TZOFFSETFROM:+0100
TZOFFSETTO:+0200
END:DAYLIGHT
BEGIN:STANDARD
DTSTART:20231029T030000Z
TZOFFSETFROM:+0200
TZOFFSETTO:+0100
END:STANDARD
END:VTIMEZONE
BEGIN:VTIMEZONE
TZID:UTC
BEGIN:STANDARD
DTSTART:20250725T154237Z
TZOFFSETFROM:+0000
TZOFFSETTO:+0000
END:STANDARD
END:VTIMEZONE
BEGIN:VEVENT
UID:435-266
DTSTAMP:20260421T154237Z
SUMMARY:Konstituierende Sitzung der Gemeindevertretung
LOCATION:
ORGANIZER;CN=Karsten Reimers:MAILTO:reimers.weddelbrook@web.de
DTSTART;TZID=Europe/Berlin:20230620T193000
DTEND;TZID=Europe/Berlin:20230620T203000
X-ALT-DESC;FMTTYPE=TEXT/HTML:Am Dienstag den 20.06.2023 findet um 19:30Uhr 
 im Dorfhaus (Heidmoorer Straße 2) die Konstituierende Sitzung der Gemeind
 evertretung Weddelbrook statt. öffentliche Tagesordnung Eröffnung und Fe
 ststellung der Beschlussfähigkeit durch den amtierenden Bürgermeister An
 träge zur Tagesordnung Einwohnerfragestunde Bericht Ergebnisprotokoll (ö
 ffentlicher Teil) Bericht des Bürgermeisters und der Ausschüsse Bekanntg
 abe nichtöffentlicher Beschlüsse gem. § 35 (3) Gemeindeordnung Feststel
 lung des dienstältesten&amp;hellip\;
CATEGORIES:Gemeinderatssitzung
URL;VALUE=URI:https://www.weddelbrook.de/events/konstituierende-sitzung-der
 -gemeindevertretung-2/
METHOD:PUBLISH
END:VEVENT
END:VCALENDAR