BEGIN:VCALENDAR
VERSION:2.0
PRODID:spatie/icalendar-generator
DESCRIPTION:Veranstaltungen von Weddelbrook
X-WR-CALDESC:Veranstaltungen von Weddelbrook
REFRESH-INTERVAL;VALUE=DURATION:PT1440M
X-PUBLISHED-TTL:PT1440M
BEGIN:VTIMEZONE
TZID:Europe/Berlin
BEGIN:STANDARD
DTSTART:20141026T030000Z
TZOFFSETFROM:+0200
TZOFFSETTO:+0100
END:STANDARD
BEGIN:DAYLIGHT
DTSTART:20150329T020000Z
TZOFFSETFROM:+0100
TZOFFSETTO:+0200
END:DAYLIGHT
END:VTIMEZONE
BEGIN:VTIMEZONE
TZID:UTC
BEGIN:STANDARD
DTSTART:20250729T103410Z
TZOFFSETFROM:+0000
TZOFFSETTO:+0000
END:STANDARD
END:VTIMEZONE
BEGIN:VEVENT
UID:11-6
DTSTAMP:20260425T103410Z
SUMMARY:Kindertheatertag in der Spielgruppe
LOCATION:
ORGANIZER;CN=Karsten Reimers:MAILTO:reimers.weddelbrook@web.de
DTSTART;TZID=Europe/Berlin:20150326T150000
DTEND;TZID=Europe/Berlin:20150327T000000
X-ALT-DESC;FMTTYPE=TEXT/HTML:Figurentheater Wolkenschieber mit dem Stück \
 "Hier kommt Kofferknut\"
CATEGORIES:Allgemein
URL;VALUE=URI:https://www.weddelbrook.de/events/kindertheatertag-in-der-spi
 elgruppe/
METHOD:PUBLISH
END:VEVENT
END:VCALENDAR