BEGIN:VCALENDAR
VERSION:2.0
PRODID:spatie/icalendar-generator
DESCRIPTION:Veranstaltungen von Weddelbrook
X-WR-CALDESC:Veranstaltungen von Weddelbrook
REFRESH-INTERVAL;VALUE=DURATION:PT1440M
X-PUBLISHED-TTL:PT1440M
BEGIN:VTIMEZONE
TZID:Europe/Berlin
BEGIN:STANDARD
DTSTART:20141026T030000Z
TZOFFSETFROM:+0200
TZOFFSETTO:+0100
END:STANDARD
BEGIN:DAYLIGHT
DTSTART:20150329T020000Z
TZOFFSETFROM:+0100
TZOFFSETTO:+0200
END:DAYLIGHT
BEGIN:STANDARD
DTSTART:20151025T030000Z
TZOFFSETFROM:+0200
TZOFFSETTO:+0100
END:STANDARD
END:VTIMEZONE
BEGIN:VTIMEZONE
TZID:UTC
BEGIN:STANDARD
DTSTART:20250725T092511Z
TZOFFSETFROM:+0000
TZOFFSETTO:+0000
END:STANDARD
END:VTIMEZONE
BEGIN:VEVENT
UID:23-18
DTSTAMP:20260421T092511Z
SUMMARY:Kinderfest
LOCATION:
ORGANIZER;CN=Karsten Reimers:MAILTO:reimers.weddelbrook@web.de
DTSTART;TZID=Europe/Berlin:20150711T140000
DTEND;TZID=Europe/Berlin:20150712T000000
X-ALT-DESC;FMTTYPE=TEXT/HTML:Bis zur 4. Klasse wird eine Spieleolympiade au
 sgetragen. Ab der 5. Klasse fahren wir mit dem Fahrrad zum Luftgewehrschie
 ßen auf den Schäferberg nach Bad Bramstedt. Für das leibliche Wohl wird
  gesorgt. Außerdem gibt es Ponyreiten und weitere Attraktionen.
CATEGORIES:Allgemein
URL;VALUE=URI:https://www.weddelbrook.de/events/kinderfest/
METHOD:PUBLISH
END:VEVENT
END:VCALENDAR