BEGIN:VCALENDAR
VERSION:2.0
PRODID:spatie/icalendar-generator
DESCRIPTION:Veranstaltungen von Weddelbrook
X-WR-CALDESC:Veranstaltungen von Weddelbrook
REFRESH-INTERVAL;VALUE=DURATION:PT1440M
X-PUBLISHED-TTL:PT1440M
BEGIN:VTIMEZONE
TZID:Europe/Berlin
BEGIN:STANDARD
DTSTART:20151025T030000Z
TZOFFSETFROM:+0200
TZOFFSETTO:+0100
END:STANDARD
BEGIN:DAYLIGHT
DTSTART:20160327T020000Z
TZOFFSETFROM:+0100
TZOFFSETTO:+0200
END:DAYLIGHT
END:VTIMEZONE
BEGIN:VTIMEZONE
TZID:UTC
BEGIN:STANDARD
DTSTART:20250725T101245Z
TZOFFSETFROM:+0000
TZOFFSETTO:+0000
END:STANDARD
END:VTIMEZONE
BEGIN:VEVENT
UID:76-60
DTSTAMP:20260421T101245Z
SUMMARY:Kinderfasching
LOCATION:Wolters Gasthof Glückstädter Straße 3  Weddelbrook  24576
ORGANIZER;CN=Karsten Reimers:MAILTO:reimers.weddelbrook@web.de
DTSTART;TZID=Europe/Berlin:20160207T150000
DTEND;TZID=Europe/Berlin:20160207T170000
X-ALT-DESC;FMTTYPE=TEXT/HTML:Kinderfasching am 07. Februar 2016 auf dem Saa
 l in Wolters Gasthof. Beginn: 15.00 Uhr  Ende: 17.00 Uhr Eintritt: 99 Cen
 t Ob groß\, ob klein\, alle sind herzlich willkommen. Wir freuen uns auf 
 einen schönen Nachmittag mit Euch! Euer Kulturausschuss der Gemeinde Wedd
 elbrook Das Saalschmücken beginnt am 07.02. um 11.00 Uhr bei Wolters auf 
 dem Saal.&amp;hellip\;
CATEGORIES:Allgemein
URL;VALUE=URI:https://www.weddelbrook.de/events/kinderfasching/
METHOD:PUBLISH
END:VEVENT
END:VCALENDAR