BEGIN:VCALENDAR
VERSION:2.0
PRODID:spatie/icalendar-generator
DESCRIPTION:Veranstaltungen von Weddelbrook
X-WR-CALDESC:Veranstaltungen von Weddelbrook
REFRESH-INTERVAL;VALUE=DURATION:PT1440M
X-PUBLISHED-TTL:PT1440M
BEGIN:VTIMEZONE
TZID:Europe/Berlin
BEGIN:STANDARD
DTSTART:20251026T030000Z
TZOFFSETFROM:+0200
TZOFFSETTO:+0100
END:STANDARD
BEGIN:DAYLIGHT
DTSTART:20260329T020000Z
TZOFFSETFROM:+0100
TZOFFSETTO:+0200
END:DAYLIGHT
END:VTIMEZONE
BEGIN:VTIMEZONE
TZID:UTC
BEGIN:STANDARD
DTSTART:20250726T144134Z
TZOFFSETFROM:+0000
TZOFFSETTO:+0000
END:STANDARD
END:VTIMEZONE
BEGIN:VEVENT
UID:630-361
DTSTAMP:20260422T144134Z
SUMMARY:Kinderfasching
LOCATION:
ORGANIZER;CN=Karsten Reimers:MAILTO:reimers.weddelbrook@web.de
DTSTART;TZID=Europe/Berlin:20260215T150000
DTEND;TZID=Europe/Berlin:20260215T173000
X-ALT-DESC;FMTTYPE=TEXT/HTML:Weddelbrook und Hitzhusen richten im Jahreswec
 hsel den Kinderfasching aus. In diesem Jahr findet das Faschingsturnen in 
 der Turnhalle der Grundschule Hitzhusen/Weddelbrook in Hitzhusen statt. Te
 rmin: 15. Februar zwischen 15 Uhr und 17:30 Uhr in der Turnhalle der Grun
 dschule in Hitzhusen. Es wird um eine turngerechte Faschingsverkleidung ge
 beten. Also Turnschuhe oder Rutschesocken nicht vergessen! In der Cafeteri
 a&amp;hellip\;
CATEGORIES:Veranstaltungen
URL;VALUE=URI:https://www.weddelbrook.de/events/kinderfasching-5/
METHOD:PUBLISH
END:VEVENT
END:VCALENDAR