BEGIN:VCALENDAR
VERSION:2.0
PRODID:spatie/icalendar-generator
DESCRIPTION:Veranstaltungen von Weddelbrook
X-WR-CALDESC:Veranstaltungen von Weddelbrook
REFRESH-INTERVAL;VALUE=DURATION:PT1440M
X-PUBLISHED-TTL:PT1440M
BEGIN:VTIMEZONE
TZID:Europe/Berlin
BEGIN:STANDARD
DTSTART:20241027T030000Z
TZOFFSETFROM:+0200
TZOFFSETTO:+0100
END:STANDARD
BEGIN:DAYLIGHT
DTSTART:20250330T020000Z
TZOFFSETFROM:+0100
TZOFFSETTO:+0200
END:DAYLIGHT
END:VTIMEZONE
BEGIN:VTIMEZONE
TZID:UTC
BEGIN:STANDARD
DTSTART:20250723T153307Z
TZOFFSETFROM:+0000
TZOFFSETTO:+0000
END:STANDARD
END:VTIMEZONE
BEGIN:VEVENT
UID:534-244
DTSTAMP:20260419T153307Z
SUMMARY:Kinderfasching
LOCATION:
ORGANIZER;CN=Karsten Reimers:MAILTO:reimers.weddelbrook@web.de
DTSTART;TZID=Europe/Berlin:20250309T150000
DTEND;TZID=Europe/Berlin:20250309T170000
X-ALT-DESC;FMTTYPE=TEXT/HTML:Kinderfasching in  Wolters Gasthof Von 15 bi
 s 17 Uhr  toben\, tanzen\, spielen\, Bonbons fangen. Eintritt für Groß 
 und Klein:  99 Cent
CATEGORIES:Allgemein
URL;VALUE=URI:https://www.weddelbrook.de/events/kinderfasching-4/
METHOD:PUBLISH
END:VEVENT
END:VCALENDAR