BEGIN:VCALENDAR
VERSION:2.0
PRODID:spatie/icalendar-generator
DESCRIPTION:Veranstaltungen von Weddelbrook
X-WR-CALDESC:Veranstaltungen von Weddelbrook
REFRESH-INTERVAL;VALUE=DURATION:PT1440M
X-PUBLISHED-TTL:PT1440M
BEGIN:VTIMEZONE
TZID:Europe/Berlin
BEGIN:STANDARD
DTSTART:20171029T030000Z
TZOFFSETFROM:+0200
TZOFFSETTO:+0100
END:STANDARD
BEGIN:DAYLIGHT
DTSTART:20180325T020000Z
TZOFFSETFROM:+0100
TZOFFSETTO:+0200
END:DAYLIGHT
END:VTIMEZONE
BEGIN:VTIMEZONE
TZID:UTC
BEGIN:STANDARD
DTSTART:20250725T145716Z
TZOFFSETFROM:+0000
TZOFFSETTO:+0000
END:STANDARD
END:VTIMEZONE
BEGIN:VEVENT
UID:221-121
DTSTAMP:20260421T145716Z
SUMMARY:Kinderfasching
LOCATION:
ORGANIZER;CN=Karsten Reimers:MAILTO:reimers.weddelbrook@web.de
DTSTART;TZID=Europe/Berlin:20180211T150000
DTEND;TZID=Europe/Berlin:20180211T180000
X-ALT-DESC;FMTTYPE=TEXT/HTML:Einladung zum 6. Faschingsturnen in der Turnha
 lle Am 11. Februar 2018 von 15.00Uhr bis 18.00Uhr heißt es wieder toben\,
  tanzen\, turnen. Bitte kommt in turngerechter Faschingsverkleidung und br
 ingt Eltern\, Großeltern und Turnfreunde mit. Rutschesocken oder Turnschu
 h nicht vergessen! Eintritt für Groß und Klein: 1 Euro Eine Cafeteria bi
 etet Leckereien für alle\, Kaffee für die Großen&amp;hellip\;
CATEGORIES:Allgemein
URL;VALUE=URI:https://www.weddelbrook.de/events/kinderfasching-3/
METHOD:PUBLISH
END:VEVENT
END:VCALENDAR