BEGIN:VCALENDAR
VERSION:2.0
PRODID:spatie/icalendar-generator
DESCRIPTION:Veranstaltungen von Weddelbrook
X-WR-CALDESC:Veranstaltungen von Weddelbrook
REFRESH-INTERVAL;VALUE=DURATION:PT1440M
X-PUBLISHED-TTL:PT1440M
BEGIN:VTIMEZONE
TZID:Europe/Berlin
BEGIN:STANDARD
DTSTART:20231029T030000Z
TZOFFSETFROM:+0200
TZOFFSETTO:+0100
END:STANDARD
BEGIN:DAYLIGHT
DTSTART:20240331T020000Z
TZOFFSETFROM:+0100
TZOFFSETTO:+0200
END:DAYLIGHT
END:VTIMEZONE
BEGIN:VTIMEZONE
TZID:UTC
BEGIN:STANDARD
DTSTART:20250725T115937Z
TZOFFSETFROM:+0000
TZOFFSETTO:+0000
END:STANDARD
END:VTIMEZONE
BEGIN:VEVENT
UID:471-292
DTSTAMP:20260421T115937Z
SUMMARY:Jahreshauptversammlung Freie Wählergemeinschaft Weddelbrook
LOCATION:
ORGANIZER;CN=Karsten Reimers:MAILTO:reimers.weddelbrook@web.de
DTSTART;TZID=Europe/Berlin:20240119T193000
DTEND;TZID=Europe/Berlin:20240119T203000
X-ALT-DESC;FMTTYPE=TEXT/HTML:Jahreshauptversammlung der Freie Wählergemein
 schaft Weddelbrook in Wolters Gasthof
CATEGORIES:Allgemein
URL;VALUE=URI:https://www.weddelbrook.de/events/jahreshauptversammlung-frei
 e-waehlergemeinschaft-weddelbrook/
METHOD:PUBLISH
END:VEVENT
END:VCALENDAR