BEGIN:VCALENDAR
VERSION:2.0
PRODID:spatie/icalendar-generator
DESCRIPTION:Veranstaltungen von Weddelbrook
X-WR-CALDESC:Veranstaltungen von Weddelbrook
REFRESH-INTERVAL;VALUE=DURATION:PT1440M
X-PUBLISHED-TTL:PT1440M
BEGIN:VTIMEZONE
TZID:Europe/Berlin
BEGIN:DAYLIGHT
DTSTART:20230326T020000Z
TZOFFSETFROM:+0100
TZOFFSETTO:+0200
END:DAYLIGHT
BEGIN:STANDARD
DTSTART:20231029T030000Z
TZOFFSETFROM:+0200
TZOFFSETTO:+0100
END:STANDARD
BEGIN:DAYLIGHT
DTSTART:20240331T020000Z
TZOFFSETFROM:+0100
TZOFFSETTO:+0200
END:DAYLIGHT
END:VTIMEZONE
BEGIN:VTIMEZONE
TZID:UTC
BEGIN:STANDARD
DTSTART:20250729T170901Z
TZOFFSETFROM:+0000
TZOFFSETTO:+0000
END:STANDARD
END:VTIMEZONE
BEGIN:VEVENT
UID:443-273
DTSTAMP:20260425T170901Z
SUMMARY:Infoabend Hundeauslaufplatz
LOCATION:
ORGANIZER;CN=Birgit Wienck:MAILTO:birgit.wienck@hamburg.de
DTSTART;TZID=Europe/Berlin:20231114T193000
DTEND;TZID=Europe/Berlin:20231114T203000
X-ALT-DESC;FMTTYPE=TEXT/HTML:Wünschst Du Dir einen Hundeauslaufplatz in We
 ddelbrook? Im DorfFunk hat sich eine Gruppe von Hundebesitzern gebildet\, 
 die sich an der Planung beteiligen will. Wenn Du Deine Ideen einbringen m
 öchtest und/oder Interesse hast mitzumachen\, komm am 14.11.2023 um 19:30
  Uhr zu einem Infoabend ins Dorfhaus. Weitere Infos im DorfFunk\, Gruppe \
 "Weddelbrook Hundeauslaufplatz\"
CATEGORIES:Allgemein,  Veranstaltungen
URL;VALUE=URI:https://www.weddelbrook.de/events/infoabend-hundeauslaufplatz
 /
METHOD:PUBLISH
END:VEVENT
END:VCALENDAR