BEGIN:VCALENDAR
VERSION:2.0
PRODID:spatie/icalendar-generator
DESCRIPTION:Veranstaltungen von Weddelbrook
X-WR-CALDESC:Veranstaltungen von Weddelbrook
REFRESH-INTERVAL;VALUE=DURATION:PT1440M
X-PUBLISHED-TTL:PT1440M
BEGIN:VTIMEZONE
TZID:Europe/Berlin
BEGIN:STANDARD
DTSTART:20221030T030000Z
TZOFFSETFROM:+0200
TZOFFSETTO:+0100
END:STANDARD
BEGIN:DAYLIGHT
DTSTART:20230326T020000Z
TZOFFSETFROM:+0100
TZOFFSETTO:+0200
END:DAYLIGHT
END:VTIMEZONE
BEGIN:VTIMEZONE
TZID:UTC
BEGIN:STANDARD
DTSTART:20250723T201934Z
TZOFFSETFROM:+0000
TZOFFSETTO:+0000
END:STANDARD
END:VTIMEZONE
BEGIN:VEVENT
UID:426-259
DTSTAMP:20260419T201934Z
SUMMARY:Info-Abend Ortsentwicklungskonzept
LOCATION:
ORGANIZER;CN=Michael Zwicker:MAILTO:derzwicker@web.de
DTSTART;TZID=Europe/Berlin:20230216T193000
DTEND;TZID=Europe/Berlin:20230216T220000
X-ALT-DESC;FMTTYPE=TEXT/HTML:Wolters Gasthof. Die Gemeinde lädt ein.
CATEGORIES:Veranstaltungen
URL;VALUE=URI:https://www.weddelbrook.de/events/info-abend-ortsentwicklungs
 konzept/
METHOD:PUBLISH
END:VEVENT
END:VCALENDAR