BEGIN:VCALENDAR
VERSION:2.0
PRODID:spatie/icalendar-generator
DESCRIPTION:Veranstaltungen von Weddelbrook
X-WR-CALDESC:Veranstaltungen von Weddelbrook
REFRESH-INTERVAL;VALUE=DURATION:PT1440M
X-PUBLISHED-TTL:PT1440M
BEGIN:VTIMEZONE
TZID:Europe/Berlin
BEGIN:DAYLIGHT
DTSTART:20230326T020000Z
TZOFFSETFROM:+0100
TZOFFSETTO:+0200
END:DAYLIGHT
BEGIN:STANDARD
DTSTART:20231029T030000Z
TZOFFSETFROM:+0200
TZOFFSETTO:+0100
END:STANDARD
END:VTIMEZONE
BEGIN:VTIMEZONE
TZID:UTC
BEGIN:STANDARD
DTSTART:20250725T135215Z
TZOFFSETFROM:+0000
TZOFFSETTO:+0000
END:STANDARD
END:VTIMEZONE
BEGIN:VEVENT
UID:438-269
DTSTAMP:20260421T135215Z
SUMMARY:Fahrt zum Hansapark
LOCATION:
ORGANIZER;CN=Karsten Reimers:MAILTO:reimers.weddelbrook@web.de
DTSTART;TZID=Europe/Berlin;VALUE=DATE:20230815
DTEND;TZID=Europe/Berlin;VALUE=DATE:20230816
X-ALT-DESC;FMTTYPE=TEXT/HTML:Weddelbrook organisiert am 15.8.2023 für Juge
 ndliche und junge Erwachsene im Alter von 14 -22 Jahren eine Ausfahrt in d
 en Hansapark Sierksdorf. Der Kostenbeitrag für Eintritt sowie An- und Abr
 eise beträgt 39 € pro Nase.
CATEGORIES:Allgemein
URL;VALUE=URI:https://www.weddelbrook.de/events/fahrt-zum-hansapark/
METHOD:PUBLISH
END:VEVENT
END:VCALENDAR