BEGIN:VCALENDAR
VERSION:2.0
PRODID:spatie/icalendar-generator
DESCRIPTION:Veranstaltungen von Weddelbrook
X-WR-CALDESC:Veranstaltungen von Weddelbrook
REFRESH-INTERVAL;VALUE=DURATION:PT1440M
X-PUBLISHED-TTL:PT1440M
BEGIN:VTIMEZONE
TZID:Europe/Berlin
BEGIN:STANDARD
DTSTART:20221030T030000Z
TZOFFSETFROM:+0200
TZOFFSETTO:+0100
END:STANDARD
BEGIN:DAYLIGHT
DTSTART:20230326T020000Z
TZOFFSETFROM:+0100
TZOFFSETTO:+0200
END:DAYLIGHT
END:VTIMEZONE
BEGIN:VTIMEZONE
TZID:UTC
BEGIN:STANDARD
DTSTART:20250723T215617Z
TZOFFSETFROM:+0000
TZOFFSETTO:+0000
END:STANDARD
END:VTIMEZONE
BEGIN:VEVENT
UID:415-249
DTSTAMP:20260419T215617Z
SUMMARY:Een\, twee\, dree - Männerfree (De Bühnenbuttjers)
LOCATION:
ORGANIZER;CN=Karsten Reimers:MAILTO:reimers.weddelbrook@web.de
DTSTART;TZID=Europe/Berlin:20230226T180000
DTEND;TZID=Europe/Berlin:20230226T190000
X-ALT-DESC;FMTTYPE=TEXT/HTML:In Wolters Gasthof Einlass jeweile 1 Stude vor
  Beginn Eintritt 10€ (Kinder 5€)
CATEGORIES:Veranstaltungen
URL;VALUE=URI:https://www.weddelbrook.de/events/een-twee-dree-maennerfree-d
 e-buehnenbuttjers-2/
METHOD:PUBLISH
END:VEVENT
END:VCALENDAR