BEGIN:VCALENDAR
VERSION:2.0
PRODID:spatie/icalendar-generator
DESCRIPTION:Veranstaltungen von Weddelbrook
X-WR-CALDESC:Veranstaltungen von Weddelbrook
REFRESH-INTERVAL;VALUE=DURATION:PT1440M
X-PUBLISHED-TTL:PT1440M
BEGIN:VTIMEZONE
TZID:Europe/Berlin
BEGIN:DAYLIGHT
DTSTART:20240331T020000Z
TZOFFSETFROM:+0100
TZOFFSETTO:+0200
END:DAYLIGHT
BEGIN:STANDARD
DTSTART:20241027T030000Z
TZOFFSETFROM:+0200
TZOFFSETTO:+0100
END:STANDARD
END:VTIMEZONE
BEGIN:VTIMEZONE
TZID:UTC
BEGIN:STANDARD
DTSTART:20250725T145531Z
TZOFFSETFROM:+0000
TZOFFSETTO:+0000
END:STANDARD
END:VTIMEZONE
BEGIN:VEVENT
UID:487-281
DTSTAMP:20260421T145531Z
SUMMARY:Dorflauf
LOCATION:
ORGANIZER;CN=Karsten Reimers:MAILTO:reimers.weddelbrook@web.de
DTSTART;TZID=Europe/Berlin:20240922T140000
DTEND;TZID=Europe/Berlin:20240922T150000
X-ALT-DESC;FMTTYPE=TEXT/HTML:14. Weddelbrooker Dorflauf Am 22. September 20
 24 ab 14:00 Uhr geht's los. Wir starten den Weddelbrooker Dorflauf mit den
  bewährten 10 und 5 km Strecken durch die Gemeinde sowie dem beliebten Ba
 mbinilauf und einem Spaßlauf auf dem Sportplatz! Läufer\, Walker und Nor
 dic Walker - alle sind herzlich willkommen! Für den Überraschungs-Spaßl
 auf auf dem Sportplatz sollen&amp;hellip\;
CATEGORIES:Allgemein
URL;VALUE=URI:https://www.weddelbrook.de/events/dorflauf-5/
METHOD:PUBLISH
END:VEVENT
END:VCALENDAR